BEGIN:VCALENDAR
VERSION:2.0
PRODID:-//Omniacongress - ECPv6.15.13.1//NONSGML v1.0//EN
CALSCALE:GREGORIAN
METHOD:PUBLISH
X-ORIGINAL-URL:https://www.omniacongress.com
X-WR-CALDESC:Eventi per Omniacongress
REFRESH-INTERVAL;VALUE=DURATION:PT1H
X-Robots-Tag:noindex
X-PUBLISHED-TTL:PT1H
BEGIN:VTIMEZONE
TZID:Europe/Rome
BEGIN:DAYLIGHT
TZOFFSETFROM:+0100
TZOFFSETTO:+0200
TZNAME:CEST
DTSTART:20250330T010000
END:DAYLIGHT
BEGIN:STANDARD
TZOFFSETFROM:+0200
TZOFFSETTO:+0100
TZNAME:CET
DTSTART:20251026T010000
END:STANDARD
BEGIN:DAYLIGHT
TZOFFSETFROM:+0100
TZOFFSETTO:+0200
TZNAME:CEST
DTSTART:20260329T010000
END:DAYLIGHT
BEGIN:STANDARD
TZOFFSETFROM:+0200
TZOFFSETTO:+0100
TZNAME:CET
DTSTART:20261025T010000
END:STANDARD
BEGIN:DAYLIGHT
TZOFFSETFROM:+0100
TZOFFSETTO:+0200
TZNAME:CEST
DTSTART:20270328T010000
END:DAYLIGHT
BEGIN:STANDARD
TZOFFSETFROM:+0200
TZOFFSETTO:+0100
TZNAME:CET
DTSTART:20271031T010000
END:STANDARD
END:VTIMEZONE
BEGIN:VEVENT
DTSTART;TZID=Europe/Rome:20260306T143000
DTEND;TZID=Europe/Rome:20260307T133000
DTSTAMP:20260419T195956
CREATED:20260203T083429Z
LAST-MODIFIED:20260303T153450Z
UID:29595-1772807400-1772890200@www.omniacongress.com
SUMMARY:Update sulle Malattie allergiche ed immunomediate
DESCRIPTION:Sala Conferenze Ospedale Buccheri La Ferla – Palermo \n\n\n\n \n\n\n\nResponsabile ScientificoDr. Ignazio Brusca\, e- mail: ignbr@libero.it \n\n\n\n \n\n\n\nScarica la brochureDownload
URL:https://www.omniacongress.com/event/update-sulle-malattie-allergiche-ed-immunomediate/
CATEGORIES:Corsi
ATTACH;FMTTYPE=image/jpeg:https://www.omniacongress.com/wp-content/uploads/2026/02/slide-sito.jpeg
ORGANIZER;CN="Omniacongress":MAILTO:info@omniacongress.com
END:VEVENT
END:VCALENDAR