BEGIN:VCALENDAR
VERSION:2.0
PRODID:-//Omniacongress - ECPv6.15.13.1//NONSGML v1.0//EN
CALSCALE:GREGORIAN
METHOD:PUBLISH
X-ORIGINAL-URL:https://www.omniacongress.com
X-WR-CALDESC:Eventi per Omniacongress
REFRESH-INTERVAL;VALUE=DURATION:PT1H
X-Robots-Tag:noindex
X-PUBLISHED-TTL:PT1H
BEGIN:VTIMEZONE
TZID:Europe/Rome
BEGIN:DAYLIGHT
TZOFFSETFROM:+0100
TZOFFSETTO:+0200
TZNAME:CEST
DTSTART:20240331T010000
END:DAYLIGHT
BEGIN:STANDARD
TZOFFSETFROM:+0200
TZOFFSETTO:+0100
TZNAME:CET
DTSTART:20241027T010000
END:STANDARD
BEGIN:DAYLIGHT
TZOFFSETFROM:+0100
TZOFFSETTO:+0200
TZNAME:CEST
DTSTART:20250330T010000
END:DAYLIGHT
BEGIN:STANDARD
TZOFFSETFROM:+0200
TZOFFSETTO:+0100
TZNAME:CET
DTSTART:20251026T010000
END:STANDARD
BEGIN:DAYLIGHT
TZOFFSETFROM:+0100
TZOFFSETTO:+0200
TZNAME:CEST
DTSTART:20260329T010000
END:DAYLIGHT
BEGIN:STANDARD
TZOFFSETFROM:+0200
TZOFFSETTO:+0100
TZNAME:CET
DTSTART:20261025T010000
END:STANDARD
END:VTIMEZONE
BEGIN:VEVENT
DTSTART;TZID=Europe/Rome:20251018T000000
DTEND;TZID=Europe/Rome:20251018T235959
DTSTAMP:20260420T022656
CREATED:20251008T165927Z
LAST-MODIFIED:20251008T170027Z
UID:27666-1760745600-1760831999@www.omniacongress.com
SUMMARY:Corso di Aggiornamento ASO 10 ore
DESCRIPTION:Relatori:  \n\n\n\nDott. Gelando FIORICA  \n\n\n\nDirettore UOC Anestesia\, Rianimazione e Terapia Intensiva del P.O. di Agrigento \n\n\n\n(Le emergenze urgenze nell’ambulatorio odontoiatrico: il ruolo del Personale non sanitario) \n\n\n\nDott.ssa Maria Chiara IPPOLITO – Giornalista \n\n\n\n(Dalla paura al sorriso: strategie comunicative per ASO con i pazienti in età pediatrica) \n\n\n\nScarica la BrochureDownload\n\n\n\n\n\nIscrizioni Online\n\n\n\n\n  \n\n\n\n Il tuo nome e Cognome\n \n \n La tua email\n \n \nCellulare\n\n \n Prenotazione o Richiesta informazioni (specifica il tipo di richiesta)\n \n \nCodice Fiscale\n\n \nProfessione\n\n \nDisciplina\n\n \n Note (facoltativo)\n \n \nPRIVACY\nAutorizzazione al trattamento dei dati personali in base all'informativa ai sensi del D.Lgs 196/2003. I dati saranno utilizzati ai fini delle operazioni di segreteria e potranno essere trasmessi a fornitori intervenuti nell'evento in oggetto. Il conferimento di tali dati è obbligatorio per l'iscrizione all'evento. Titolare dei dati è Omniacongress srl. La spunta nella sottostante casella "Acconsento" costituisce la presa d'atto della presente informativa e consente il trattamento dei dati personali come sopra citato. Con la presente si autorizza inoltre l'eventuale pubblicazione di fotografie effettuate durante l'evento\nAutorizzo il trattamento dei miei dati personali presenti nel form di registrazione ai sensi del Decreto Legislativo 30 giugno 2003\, n. 196 e del GDPR Regolamento UE 2016/679.\n\n \n\n Δ
URL:https://www.omniacongress.com/event/corso-di-aggiornamento-aso-10-ore-3/
CATEGORIES:Congressi,Convegni,Corsi
ATTACH;FMTTYPE=image/png:https://www.omniacongress.com/wp-content/uploads/2025/10/Screenshot-2025-10-08-alle-18.47.48-scaled.png
ORGANIZER;CN="Omniacongress":MAILTO:info@omniacongress.com
END:VEVENT
BEGIN:VEVENT
DTSTART;TZID=Europe/Rome:20251025T083000
DTEND;TZID=Europe/Rome:20251025T170000
DTSTAMP:20260420T022656
CREATED:20251001T133621Z
LAST-MODIFIED:20251001T133733Z
UID:27409-1761381000-1761411600@www.omniacongress.com
SUMMARY:Il Tumore della Mammella: dalla diagnosi precoce alla presa in carico multidisciplinare
DESCRIPTION:Ospedale San Giacomo d’Altopasso – Licata \n\n\n\nResponsabili del Corso: Pietro CURELLA\, Giuseppe MASCARELLA\, Antonino SAVARINO \n\n\n\nComitato Scientifico: Mattia AQUILINO\, Leonardo PUMA \n\n\n\nScarica la BrochureDownload\n\n\n\n\n\nIscrizioni Online\n\n\n\n\n  \n\n\n\n Il tuo nome e Cognome\n \n \n La tua email\n \n \nCellulare\n\n \n Prenotazione o Richiesta informazioni (specifica il tipo di richiesta)\n \n \nCodice Fiscale\n\n \nProfessione\n\n \nDisciplina\n\n \n Note (facoltativo)\n \n \nPRIVACY\nAutorizzazione al trattamento dei dati personali in base all'informativa ai sensi del D.Lgs 196/2003. I dati saranno utilizzati ai fini delle operazioni di segreteria e potranno essere trasmessi a fornitori intervenuti nell'evento in oggetto. Il conferimento di tali dati è obbligatorio per l'iscrizione all'evento. Titolare dei dati è Omniacongress srl. La spunta nella sottostante casella "Acconsento" costituisce la presa d'atto della presente informativa e consente il trattamento dei dati personali come sopra citato. Con la presente si autorizza inoltre l'eventuale pubblicazione di fotografie effettuate durante l'evento\nAutorizzo il trattamento dei miei dati personali presenti nel form di registrazione ai sensi del Decreto Legislativo 30 giugno 2003\, n. 196 e del GDPR Regolamento UE 2016/679.\n\n \n\n Δ
URL:https://www.omniacongress.com/event/il-tumore-della-mammella-dalla-diagnosi-precoce-alla-presa-in-carico-multidisciplinare/
CATEGORIES:Convegni,Corsi
ATTACH;FMTTYPE=image/jpeg:https://www.omniacongress.com/wp-content/uploads/2025/10/IMG_5688.jpg
ORGANIZER;CN="Omniacongress":MAILTO:info@omniacongress.com
END:VEVENT
BEGIN:VEVENT
DTSTART;TZID=Europe/Rome:20251025T083000
DTEND;TZID=Europe/Rome:20251025T161500
DTSTAMP:20260420T022656
CREATED:20251001T134108Z
LAST-MODIFIED:20251001T134151Z
UID:27415-1761381000-1761408900@www.omniacongress.com
SUMMARY:Tumori Ginecologici: percorsi di cura e collaborazione tra Specialisti e Territorio
DESCRIPTION:Aula Piraino – Ospedale di Sciacca \n\n\n\nResponsabili Scientifici: Domenico SANTANGELO\, Maria Rosaria VALERIO\, Francesco VERDERAME \n\n\n\nScarica la BrochureDownload\n\n\n\n\n\nIscrizioni Online\n\n\n\n\n  \n\n\n\n Il tuo nome e Cognome\n \n \n La tua email\n \n \nCellulare\n\n \n Prenotazione o Richiesta informazioni (specifica il tipo di richiesta)\n \n \nCodice Fiscale\n\n \nProfessione\n\n \nDisciplina\n\n \n Note (facoltativo)\n \n \nPRIVACY\nAutorizzazione al trattamento dei dati personali in base all'informativa ai sensi del D.Lgs 196/2003. I dati saranno utilizzati ai fini delle operazioni di segreteria e potranno essere trasmessi a fornitori intervenuti nell'evento in oggetto. Il conferimento di tali dati è obbligatorio per l'iscrizione all'evento. Titolare dei dati è Omniacongress srl. La spunta nella sottostante casella "Acconsento" costituisce la presa d'atto della presente informativa e consente il trattamento dei dati personali come sopra citato. Con la presente si autorizza inoltre l'eventuale pubblicazione di fotografie effettuate durante l'evento\nAutorizzo il trattamento dei miei dati personali presenti nel form di registrazione ai sensi del Decreto Legislativo 30 giugno 2003\, n. 196 e del GDPR Regolamento UE 2016/679.\n\n \n\n Δ
URL:https://www.omniacongress.com/event/tumori-ginecologici-percorsi-di-cura-e-collaborazione-tra-specialisti-e-territorio/
CATEGORIES:Congressi,Convegni,Corsi,Meeting
ATTACH;FMTTYPE=image/jpeg:https://www.omniacongress.com/wp-content/uploads/2025/10/IMG_5687.jpg
ORGANIZER;CN="Omniacongress":MAILTO:info@omniacongress.com
END:VEVENT
END:VCALENDAR