BEGIN:VCALENDAR
VERSION:2.0
PRODID:-//Omniacongress - ECPv6.15.13.1//NONSGML v1.0//EN
CALSCALE:GREGORIAN
METHOD:PUBLISH
X-WR-CALNAME:Omniacongress
X-ORIGINAL-URL:https://www.omniacongress.com
X-WR-CALDESC:Eventi per Omniacongress
REFRESH-INTERVAL;VALUE=DURATION:PT1H
X-Robots-Tag:noindex
X-PUBLISHED-TTL:PT1H
BEGIN:VTIMEZONE
TZID:Europe/Rome
BEGIN:DAYLIGHT
TZOFFSETFROM:+0100
TZOFFSETTO:+0200
TZNAME:CEST
DTSTART:20240331T010000
END:DAYLIGHT
BEGIN:STANDARD
TZOFFSETFROM:+0200
TZOFFSETTO:+0100
TZNAME:CET
DTSTART:20241027T010000
END:STANDARD
BEGIN:DAYLIGHT
TZOFFSETFROM:+0100
TZOFFSETTO:+0200
TZNAME:CEST
DTSTART:20250330T010000
END:DAYLIGHT
BEGIN:STANDARD
TZOFFSETFROM:+0200
TZOFFSETTO:+0100
TZNAME:CET
DTSTART:20251026T010000
END:STANDARD
BEGIN:DAYLIGHT
TZOFFSETFROM:+0100
TZOFFSETTO:+0200
TZNAME:CEST
DTSTART:20260329T010000
END:DAYLIGHT
BEGIN:STANDARD
TZOFFSETFROM:+0200
TZOFFSETTO:+0100
TZNAME:CET
DTSTART:20261025T010000
END:STANDARD
END:VTIMEZONE
BEGIN:VEVENT
DTSTART;TZID=Europe/Rome:20250614T083000
DTEND;TZID=Europe/Rome:20250614T150000
DTSTAMP:20260420T092802
CREATED:20250429T140325Z
LAST-MODIFIED:20250429T140935Z
UID:23969-1749889800-1749913200@www.omniacongress.com
SUMMARY:Argomenti di Endocrinologia Pediatrica nella pratica clinica
DESCRIPTION:Sala Conferenze Astoria Palace Hotel – Via Montepellegrino – Palermo \n\n\n\nResponsabile Scientifico: Graziella Malizia \n\n\n\nCorso ECM – Crediti ECM assegnati: 6 \n\n\n\nScarica la BrochureDownload\n\n\n\n\n\nIscrizioni Online\n\n\n\n\n  \n\n\n\n Il tuo nome e Cognome\n \n \n La tua email\n \n \nCellulare\n\n \n Prenotazione o Richiesta informazioni (specifica il tipo di richiesta)\n \n \nCodice Fiscale\n\n \nProfessione\n\n \nDisciplina\n\n \n Note (facoltativo)\n \n \nPRIVACY\nAutorizzazione al trattamento dei dati personali in base all'informativa ai sensi del D.Lgs 196/2003. I dati saranno utilizzati ai fini delle operazioni di segreteria e potranno essere trasmessi a fornitori intervenuti nell'evento in oggetto. Il conferimento di tali dati è obbligatorio per l'iscrizione all'evento. Titolare dei dati è Omniacongress srl. La spunta nella sottostante casella "Acconsento" costituisce la presa d'atto della presente informativa e consente il trattamento dei dati personali come sopra citato. Con la presente si autorizza inoltre l'eventuale pubblicazione di fotografie effettuate durante l'evento\nAutorizzo il trattamento dei miei dati personali presenti nel form di registrazione ai sensi del Decreto Legislativo 30 giugno 2003\, n. 196 e del GDPR Regolamento UE 2016/679.\n\n \n\n Δ
URL:https://www.omniacongress.com/event/argomenti-di-endocrinologia-pediatrica-nella-pratica-clinica/
CATEGORIES:Congressi,Convegni,Corsi,Meeting
ATTACH;FMTTYPE=image/png:https://www.omniacongress.com/wp-content/uploads/2025/04/Screenshot-2025-04-29-alle-16.00.19.png
ORGANIZER;CN="Omniacongress":MAILTO:info@omniacongress.com
END:VEVENT
BEGIN:VEVENT
DTSTART;TZID=Europe/Rome:20250623T083000
DTEND;TZID=Europe/Rome:20250624T180000
DTSTAMP:20260420T092802
CREATED:20250621T152830Z
LAST-MODIFIED:20250621T153252Z
UID:25463-1750667400-1750788000@www.omniacongress.com
SUMMARY:Potenziamento dei DSM della Regione Sicilia
DESCRIPTION:– reti di cura e percorsi innovativi per i pazienti autori di reato \n\n\n\n– nuove prospettive di dialogo tra Diritto e Salute Mentale” \n\n\n\n\n\nGrand Hotel Mosè – Agrigento \n\n\n\nSegreteria Scientifica: \n\n\n\nDott.ssa Carmela Amoroso \n\n\n\nDott.ssa Giuseppina Ancona \n\n\n\nDr. Cristina Camilleri \n\n\n\nDott.ssa Giovanna Di Falco \n\n\n\nDott.ssa Angela Mariolina Di Salvo \n\n\n\nDott. Amedeo Fuliano \n\n\n\nDr Leonardo Giordano \n\n\n\nScarica la BrochureDownload\n\n\n\n\n\nIscrizioni Online\n\n\n\n\n  \n\n\n\n Il tuo nome e Cognome\n \n \n La tua email\n \n \nCellulare\n\n \n Prenotazione o Richiesta informazioni (specifica il tipo di richiesta)\n \n \nCodice Fiscale\n\n \nProfessione\n\n \nDisciplina\n\n \n Note (facoltativo)\n \n \nPRIVACY\nAutorizzazione al trattamento dei dati personali in base all'informativa ai sensi del D.Lgs 196/2003. I dati saranno utilizzati ai fini delle operazioni di segreteria e potranno essere trasmessi a fornitori intervenuti nell'evento in oggetto. Il conferimento di tali dati è obbligatorio per l'iscrizione all'evento. Titolare dei dati è Omniacongress srl. La spunta nella sottostante casella "Acconsento" costituisce la presa d'atto della presente informativa e consente il trattamento dei dati personali come sopra citato. Con la presente si autorizza inoltre l'eventuale pubblicazione di fotografie effettuate durante l'evento\nAutorizzo il trattamento dei miei dati personali presenti nel form di registrazione ai sensi del Decreto Legislativo 30 giugno 2003\, n. 196 e del GDPR Regolamento UE 2016/679.\n\n \n\n Δ
URL:https://www.omniacongress.com/event/potenziamento-dei-dsm-della-regione-sicilia/
CATEGORIES:Congressi,Convegni,Corsi
ATTACH;FMTTYPE=image/png:https://www.omniacongress.com/wp-content/uploads/2025/06/Screenshot-2025-06-21-alle-17.25.01.png
ORGANIZER;CN="Omniacongress":MAILTO:info@omniacongress.com
END:VEVENT
BEGIN:VEVENT
DTSTART;TZID=Europe/Rome:20250627T080000
DTEND;TZID=Europe/Rome:20250627T170000
DTSTAMP:20260420T092802
CREATED:20250521T144306Z
LAST-MODIFIED:20250624T073708Z
UID:24900-1751011200-1751043600@www.omniacongress.com
SUMMARY:Il mezzo di contrasto nella patologia epatica: Ecografia\, Tomografia computerizzata\, Risonanza Magnetica
DESCRIPTION:Marina Convention Center – Palermo \n\n\n\nResponsabile Scientifico: Tommaso Vincenzo Bartolotta \n\n\n\nScarica la BrochureDownload
URL:https://www.omniacongress.com/event/il-mezzo-di-contrasto-nella-patologia-epatica-ecografia-tomografia-computerizzata-risonanza-magnetica/
CATEGORIES:Congressi,Convegni,Corsi,Meeting
ATTACH;FMTTYPE=image/jpeg:https://www.omniacongress.com/wp-content/uploads/2025/05/IMG_1417.jpg
ORGANIZER;CN="Omniacongress":MAILTO:info@omniacongress.com
END:VEVENT
END:VCALENDAR