BEGIN:VCALENDAR
VERSION:2.0
PRODID:-//Omniacongress - ECPv6.15.13.1//NONSGML v1.0//EN
CALSCALE:GREGORIAN
METHOD:PUBLISH
X-ORIGINAL-URL:https://www.omniacongress.com
X-WR-CALDESC:Eventi per Omniacongress
REFRESH-INTERVAL;VALUE=DURATION:PT1H
X-Robots-Tag:noindex
X-PUBLISHED-TTL:PT1H
BEGIN:VTIMEZONE
TZID:Europe/Rome
BEGIN:DAYLIGHT
TZOFFSETFROM:+0100
TZOFFSETTO:+0200
TZNAME:CEST
DTSTART:20240331T010000
END:DAYLIGHT
BEGIN:STANDARD
TZOFFSETFROM:+0200
TZOFFSETTO:+0100
TZNAME:CET
DTSTART:20241027T010000
END:STANDARD
BEGIN:DAYLIGHT
TZOFFSETFROM:+0100
TZOFFSETTO:+0200
TZNAME:CEST
DTSTART:20250330T010000
END:DAYLIGHT
BEGIN:STANDARD
TZOFFSETFROM:+0200
TZOFFSETTO:+0100
TZNAME:CET
DTSTART:20251026T010000
END:STANDARD
BEGIN:DAYLIGHT
TZOFFSETFROM:+0100
TZOFFSETTO:+0200
TZNAME:CEST
DTSTART:20260329T010000
END:DAYLIGHT
BEGIN:STANDARD
TZOFFSETFROM:+0200
TZOFFSETTO:+0100
TZNAME:CET
DTSTART:20261025T010000
END:STANDARD
END:VTIMEZONE
BEGIN:VEVENT
DTSTART;TZID=Europe/Rome:20250131T083000
DTEND;TZID=Europe/Rome:20250131T180000
DTSTAMP:20260420T142220
CREATED:20250120T154138Z
LAST-MODIFIED:20250120T155320Z
UID:22088-1738312200-1738346400@www.omniacongress.com
SUMMARY:Corso BLSD Esecutori Sanitari - IL SUPPORTO DI BASE DELLE FUNZIONI VITALI IN PEDIATRIA Pediatric Basic Life Support
DESCRIPTION:Sala Conferenze Dipartimento Materno Infantile  \n\n\n\nPO OSPEDALI CIVILI RIUNITI VIA POMPEI\, SCIACCA \n\n\n\nFaculty:  \n\n\n\nAlessandro Arco \n\n\n\nFrancesco De Luca \n\n\n\nAndrea Rosace \n\n\n\nLuca Sinardi \n\n\n\nCristina Trigilia \n\n\n\nScarica la BrochureDownload
URL:https://www.omniacongress.com/event/corso-blsd-esecutori-sanitari-il-supporto-di-base-delle-funzioni-vitali-in-pediatria-pediatric-basic-life-support/
CATEGORIES:Corsi
ATTACH;FMTTYPE=image/png:https://www.omniacongress.com/wp-content/uploads/2025/01/Screenshot-2025-01-20-alle-16.35.47.png
ORGANIZER;CN="Omniacongress":MAILTO:info@omniacongress.com
END:VEVENT
END:VCALENDAR